BEGIN:VCALENDAR
VERSION:2.0
PRODID:-//Running Santa Cruz - ECPv6.15.18//NONSGML v1.0//EN
CALSCALE:GREGORIAN
METHOD:PUBLISH
X-WR-CALNAME:Running Santa Cruz
X-ORIGINAL-URL:https://runningsantacruz.com
X-WR-CALDESC:Eventos para Running Santa Cruz
REFRESH-INTERVAL;VALUE=DURATION:PT1H
X-Robots-Tag:noindex
X-PUBLISHED-TTL:PT1H
BEGIN:VTIMEZONE
TZID:UTC
BEGIN:STANDARD
TZOFFSETFROM:+0000
TZOFFSETTO:+0000
TZNAME:UTC
DTSTART:20250101T000000
END:STANDARD
END:VTIMEZONE
BEGIN:VEVENT
DTSTART;TZID=UTC:20260208T063000
DTEND;TZID=UTC:20260208T200000
DTSTAMP:20260421T093508
CREATED:20260405T011658Z
LAST-MODIFIED:20260405T012218Z
UID:10000002-1770532200-1770580800@runningsantacruz.com
SUMMARY:DESAFIO DE LOS ANILLOS
DESCRIPTION:DISTANCIA: 6k – 12k\nFECHA: Domingo 08 de febrero del 2026\nHORARIO DE CONCENTRACIÓN: 06:30a.m.\nPARTIDA: Parque Urbano 2do anillo\n\n\nCOSTOS:\nKIT COMPLETO Bs. 250 + costo por servicio\n• Polera oficial del evento\n• Dorsal o número de corredor\n• Chip de cronometraje\n• Medalla de finisher\n• Hidratación\n\n\nKIT MEDALLA: Bs. 130 + costo por servicio\n• Dorsal o número de corredor\n• Chip de cronometraje\n• Medalla de finisher\n• Hidratación\n\n\nCATEGORIAS: Damas y Varones\n• Hasta 19 años.\n• 20 a 29 años.\n• 30 a 39 años.\n• 40 a 49 años.\n• 50 a 59 años.\n• 60 + años
URL:https://runningsantacruz.com/evento/desafio-de-los-anillos/
LOCATION:Parque Urbano\, 6R4J+5VQ\, Av. Argentina\, Santa Cruz de la Sierra\, Santa Cruz de la Sierra\, Bolivia
ATTACH;FMTTYPE=image/jpeg:https://runningsantacruz.com/wp-content/uploads/2026/04/desafio-de-los-anillos.jpg
ORGANIZER;CN="Atlestar":MAILTO:hola@atlestar.com
END:VEVENT
END:VCALENDAR