BEGIN:VCALENDAR
VERSION:2.0
PRODID:-//Running Santa Cruz - ECPv6.15.18//NONSGML v1.0//EN
CALSCALE:GREGORIAN
METHOD:PUBLISH
X-WR-CALNAME:Running Santa Cruz
X-ORIGINAL-URL:https://runningsantacruz.com
X-WR-CALDESC:Eventos para Running Santa Cruz
REFRESH-INTERVAL;VALUE=DURATION:PT1H
X-Robots-Tag:noindex
X-PUBLISHED-TTL:PT1H
BEGIN:VTIMEZONE
TZID:UTC
BEGIN:STANDARD
TZOFFSETFROM:+0000
TZOFFSETTO:+0000
TZNAME:UTC
DTSTART:20250101T000000
END:STANDARD
END:VTIMEZONE
BEGIN:VEVENT
DTSTART;TZID=UTC:20260802T063000
DTEND;TZID=UTC:20260802T083000
DTSTAMP:20260423T102531
CREATED:20260405T040711Z
LAST-MODIFIED:20260405T040920Z
UID:10000013-1785652200-1785659400@runningsantacruz.com
SUMMARY:T-STORE RUN MUSIC 5K
DESCRIPTION:
URL:https://runningsantacruz.com/evento/t-store-run-music-5k/
LOCATION:Tramontina Store\, 6RQ5+H6P Santa Cruz de la Sierra\, Santa Cruz de la Sierra\, Bolivia
ATTACH;FMTTYPE=image/jpeg:https://runningsantacruz.com/wp-content/uploads/2026/04/logo-mo-competencias.jpg
END:VEVENT
BEGIN:VEVENT
DTSTART;TZID=UTC:20260806T063000
DTEND;TZID=UTC:20260806T203000
DTSTAMP:20260423T102531
CREATED:20260405T041028Z
LAST-MODIFIED:20260405T041028Z
UID:10000014-1785997800-1786048200@runningsantacruz.com
SUMMARY:SPARTAN CROSS
DESCRIPTION:
URL:https://runningsantacruz.com/evento/spartan-cross/
ATTACH;FMTTYPE=image/jpeg:https://runningsantacruz.com/wp-content/uploads/2026/04/nedy-viruez.jpg
END:VEVENT
BEGIN:VEVENT
DTSTART;TZID=UTC:20260823T063000
DTEND;TZID=UTC:20260823T103000
DTSTAMP:20260423T102531
CREATED:20260405T041537Z
LAST-MODIFIED:20260405T041630Z
UID:10000015-1787466600-1787481000@runningsantacruz.com
SUMMARY:RUN MARÍA AUXILIADORA
DESCRIPTION:
URL:https://runningsantacruz.com/evento/run-maria-auxiliadora/
LOCATION:Urbanización España\, 5R43+J93 Santa Cruz de la Sierra\, Santa Cruz de la Sierra\, Bolivia
ATTACH;FMTTYPE=image/jpeg:https://runningsantacruz.com/wp-content/uploads/2026/04/logo-motivate.jpg
END:VEVENT
BEGIN:VEVENT
DTSTART;TZID=UTC:20260823T073000
DTEND;TZID=UTC:20260823T093000
DTSTAMP:20260423T102531
CREATED:20260405T042036Z
LAST-MODIFIED:20260405T042239Z
UID:10000016-1787470200-1787477400@runningsantacruz.com
SUMMARY:ROTARY LIFE MONTERO
DESCRIPTION:
URL:https://runningsantacruz.com/evento/rotary-life-montero/
ATTACH;FMTTYPE=image/jpeg:https://runningsantacruz.com/wp-content/uploads/2026/04/logo-mo-competencias.jpg
END:VEVENT
BEGIN:VEVENT
DTSTART;TZID=UTC:20260830T063000
DTEND;TZID=UTC:20260830T083000
DTSTAMP:20260423T102531
CREATED:20260405T042203Z
LAST-MODIFIED:20260405T042203Z
UID:10000017-1788071400-1788078600@runningsantacruz.com
SUMMARY:CORRIENDO POR LA EDUCACIÓN
DESCRIPTION:
URL:https://runningsantacruz.com/evento/corriendo-por-la-educacion/
LOCATION:Universidad Privada Domingo Savio Santa Cruz\, 6RRG+P2M Santa Cruz de la Sierra\, Santa Cruz de la Sierra\, Bolivia
ATTACH;FMTTYPE=image/jpeg:https://runningsantacruz.com/wp-content/uploads/2026/04/logo-mo-competencias.jpg
END:VEVENT
END:VCALENDAR