BEGIN:VCALENDAR
VERSION:2.0
PRODID:-//Running Santa Cruz - ECPv6.15.18//NONSGML v1.0//EN
CALSCALE:GREGORIAN
METHOD:PUBLISH
X-ORIGINAL-URL:https://runningsantacruz.com
X-WR-CALDESC:Eventos para Running Santa Cruz
REFRESH-INTERVAL;VALUE=DURATION:PT1H
X-Robots-Tag:noindex
X-PUBLISHED-TTL:PT1H
BEGIN:VTIMEZONE
TZID:UTC
BEGIN:STANDARD
TZOFFSETFROM:+0000
TZOFFSETTO:+0000
TZNAME:UTC
DTSTART:20250101T000000
END:STANDARD
END:VTIMEZONE
BEGIN:VEVENT
DTSTART;TZID=UTC:20260614T063000
DTEND;TZID=UTC:20260614T083000
DTSTAMP:20260421T081249
CREATED:20260405T032743Z
LAST-MODIFIED:20260405T034000Z
UID:10000008-1781418600-1781425800@runningsantacruz.com
SUMMARY:RUN SCZ RUN 30K
DESCRIPTION:
URL:https://runningsantacruz.com/evento/run-scz-run-30k/
ATTACH;FMTTYPE=image/jpeg:https://runningsantacruz.com/wp-content/uploads/2026/04/logo-30k.jpg
ORGANIZER;CN="Multisport":MAILTO:info@multisportbolivia.com
END:VEVENT
BEGIN:VEVENT
DTSTART;TZID=UTC:20260621T063000
DTEND;TZID=UTC:20260621T083000
DTSTAMP:20260421T081249
CREATED:20260405T033846Z
LAST-MODIFIED:20260405T033846Z
UID:10000009-1782023400-1782030600@runningsantacruz.com
SUMMARY:TDE - GUARDIANES DE LA TIERRA
DESCRIPTION:
URL:https://runningsantacruz.com/evento/tde-guardianes-de-la-tierra/
LOCATION:Centro Empresarial Equipetrol\, 6RQ2+V4F\, Santa Cruz de la Sierra\, Santa Cruz de la Sierra\, Bolivia
ATTACH;FMTTYPE=image/jpeg:https://runningsantacruz.com/wp-content/uploads/2026/04/ATLE.jpg
ORGANIZER;CN="Atlestar":MAILTO:hola@atlestar.com
END:VEVENT
BEGIN:VEVENT
DTSTART;TZID=UTC:20260628T063000
DTEND;TZID=UTC:20260628T083000
DTSTAMP:20260421T081249
CREATED:20260405T034259Z
LAST-MODIFIED:20260405T034259Z
UID:10000010-1782628200-1782635400@runningsantacruz.com
SUMMARY:CORRIENDO POR TU SEGURIDAD
DESCRIPTION:
URL:https://runningsantacruz.com/evento/corriendo-por-tu-seguridad/
LOCATION:Comando Departamental de Policia S.C\, Comando Departamental de la Policia\, Gral Aguilera\, Santa Cruz de la Sierra\, Santa Cruz de la Sierra\, Bolivia
ATTACH;FMTTYPE=image/jpeg:https://runningsantacruz.com/wp-content/uploads/2026/04/logo-mo-competencias.jpg
END:VEVENT
END:VCALENDAR